BEGIN:VCALENDAR
VERSION:2.0
METHOD:PUBLISH
PRODID:-//Plastikfantastik//SiTi Teater BTC//SL
CALSCALE:GREGORIAN
BEGIN:VEVENT
LOCATION:SiTi Teater BTC
DTSTART:20260529T210000
SUMMARY:Reece Kidd: 1 Irishman in Ljubljana
URL:https://www.sititeater.si/gostujoce-predstave/reece-kid-1-irishman-in-ljubljana/
UID:69e7e9feb2b93.7994@www.sititeater.si
DTSTAMP:20260421T231958
END:VEVENT
END:VCALENDAR