BEGIN:VCALENDAR
VERSION:2.0
METHOD:PUBLISH
PRODID:-//Plastikfantastik//SiTi Teater BTC//SL
CALSCALE:GREGORIAN
BEGIN:VEVENT
LOCATION:SiTi Teater BTC
DTSTART:20260528T200000
SUMMARY:Brata
URL:https://www.sititeater.si/predstave-siti-teatra-btc/brata/
UID:69e7e9e2380b8.7988@www.sititeater.si
DTSTAMP:20260421T231930
END:VEVENT
END:VCALENDAR