BEGIN:VCALENDAR
VERSION:2.0
METHOD:PUBLISH
PRODID:-//Plastikfantastik//SiTi Teater BTC//SL
CALSCALE:GREGORIAN
BEGIN:VEVENT
LOCATION:SiTi Teater BTC
DTSTART:20260507T200000
SUMMARY:La La Lajf
URL:https://www.sititeater.si/predstave-siti-teatra-btc/la-la-lajf/
UID:69e7eb2e9b19a.7984@www.sititeater.si
DTSTAMP:20260421T232502
END:VEVENT
END:VCALENDAR