BEGIN:VCALENDAR
VERSION:2.0
METHOD:PUBLISH
PRODID:-//Plastikfantastik//SiTi Teater BTC//SL
CALSCALE:GREGORIAN
BEGIN:VEVENT
LOCATION:SiTi Teater BTC
DTSTART:20260421T200000
SUMMARY:Pozabi na normalo
URL:https://www.sititeater.si/drugo/pozabi-na-normalo/
UID:69e7e9fe939c1.7957@www.sititeater.si
DTSTAMP:20260421T231958
END:VEVENT
END:VCALENDAR