BEGIN:VCALENDAR
VERSION:2.0
METHOD:PUBLISH
PRODID:-//Plastikfantastik//SiTi Teater BTC//SL
CALSCALE:GREGORIAN
BEGIN:VEVENT
LOCATION:SiTi Teater BTC
DTSTART:20260422T200000
SUMMARY:SiTi za dobro musko: Žan Videc
URL:https://www.sititeater.si/siti-za-dobro-musko/siti-za-dobro-musko-zan-videc/
UID:69e7eb0e371ed.7933@www.sititeater.si
DTSTAMP:20260421T232430
END:VEVENT
END:VCALENDAR