BEGIN:VCALENDAR
VERSION:2.0
METHOD:PUBLISH
PRODID:-//Plastikfantastik//SiTi Teater BTC//SL
CALSCALE:GREGORIAN
BEGIN:VEVENT
LOCATION:SiTi Teater BTC
DTSTART:20260514T200000
SUMMARY:Veličastna!
URL:https://www.sititeater.si/predstave-siti-teatra-btc/velicastna/
UID:69e8e49856f24.7985@www.sititeater.si
DTSTAMP:20260422T170912
END:VEVENT
END:VCALENDAR